BEGIN:VCALENDAR
VERSION:2.0
PRODID:-//jEvents 2.0 for Joomla//EN
CALSCALE:GREGORIAN
METHOD:PUBLISH
BEGIN:VTIMEZONE
TZID:Europe/Brussels
BEGIN:STANDARD
DTSTART:20201203T143000
RDATE:20210328T030000
TZOFFSETFROM:+0200
TZOFFSETTO:+0100
TZNAME:Europe/Brussels CET
END:STANDARD
BEGIN:STANDARD
DTSTART:20211031T020000
RDATE:20220327T030000
TZOFFSETFROM:+0200
TZOFFSETTO:+0100
TZNAME:Europe/Brussels CET
END:STANDARD
BEGIN:STANDARD
DTSTART:20221030T020000
RDATE:20230326T030000
TZOFFSETFROM:+0200
TZOFFSETTO:+0100
TZNAME:Europe/Brussels CET
END:STANDARD
BEGIN:STANDARD
DTSTART:20231029T020000
RDATE:20240331T030000
TZOFFSETFROM:+0200
TZOFFSETTO:+0100
TZNAME:Europe/Brussels CET
END:STANDARD
BEGIN:STANDARD
DTSTART:20241027T020000
RDATE:20250330T030000
TZOFFSETFROM:+0200
TZOFFSETTO:+0100
TZNAME:Europe/Brussels CET
END:STANDARD
BEGIN:STANDARD
DTSTART:20251026T020000
RDATE:20260329T030000
TZOFFSETFROM:+0200
TZOFFSETTO:+0100
TZNAME:Europe/Brussels CET
END:STANDARD
BEGIN:STANDARD
DTSTART:20261025T020000
RDATE:20270328T030000
TZOFFSETFROM:+0200
TZOFFSETTO:+0100
TZNAME:Europe/Brussels CET
END:STANDARD
BEGIN:STANDARD
DTSTART:20271031T020000
RDATE:20280326T030000
TZOFFSETFROM:+0200
TZOFFSETTO:+0100
TZNAME:Europe/Brussels CET
END:STANDARD
BEGIN:STANDARD
DTSTART:20281029T020000
RDATE:20290325T030000
TZOFFSETFROM:+0200
TZOFFSETTO:+0100
TZNAME:Europe/Brussels CET
END:STANDARD
BEGIN:STANDARD
DTSTART:20291028T020000
RDATE:20300331T030000
TZOFFSETFROM:+0200
TZOFFSETTO:+0100
TZNAME:Europe/Brussels CET
END:STANDARD
BEGIN:STANDARD
DTSTART:20301027T020000
RDATE:20310330T030000
TZOFFSETFROM:+0200
TZOFFSETTO:+0100
TZNAME:Europe/Brussels CET
END:STANDARD
BEGIN:DAYLIGHT
DTSTART:20210328T030000
RDATE:20211031T020000
TZOFFSETFROM:+0100
TZOFFSETTO:+0200
TZNAME:Europe/Brussels CEST
END:DAYLIGHT
BEGIN:DAYLIGHT
DTSTART:20220327T030000
RDATE:20221030T020000
TZOFFSETFROM:+0100
TZOFFSETTO:+0200
TZNAME:Europe/Brussels CEST
END:DAYLIGHT
BEGIN:DAYLIGHT
DTSTART:20230326T030000
RDATE:20231029T020000
TZOFFSETFROM:+0100
TZOFFSETTO:+0200
TZNAME:Europe/Brussels CEST
END:DAYLIGHT
BEGIN:DAYLIGHT
DTSTART:20240331T030000
RDATE:20241027T020000
TZOFFSETFROM:+0100
TZOFFSETTO:+0200
TZNAME:Europe/Brussels CEST
END:DAYLIGHT
BEGIN:DAYLIGHT
DTSTART:20250330T030000
RDATE:20251026T020000
TZOFFSETFROM:+0100
TZOFFSETTO:+0200
TZNAME:Europe/Brussels CEST
END:DAYLIGHT
BEGIN:DAYLIGHT
DTSTART:20260329T030000
RDATE:20261025T020000
TZOFFSETFROM:+0100
TZOFFSETTO:+0200
TZNAME:Europe/Brussels CEST
END:DAYLIGHT
BEGIN:DAYLIGHT
DTSTART:20270328T030000
RDATE:20271031T020000
TZOFFSETFROM:+0100
TZOFFSETTO:+0200
TZNAME:Europe/Brussels CEST
END:DAYLIGHT
BEGIN:DAYLIGHT
DTSTART:20280326T030000
RDATE:20281029T020000
TZOFFSETFROM:+0100
TZOFFSETTO:+0200
TZNAME:Europe/Brussels CEST
END:DAYLIGHT
BEGIN:DAYLIGHT
DTSTART:20290325T030000
RDATE:20291028T020000
TZOFFSETFROM:+0100
TZOFFSETTO:+0200
TZNAME:Europe/Brussels CEST
END:DAYLIGHT
BEGIN:DAYLIGHT
DTSTART:20300331T030000
RDATE:20301027T020000
TZOFFSETFROM:+0100
TZOFFSETTO:+0200
TZNAME:Europe/Brussels CEST
END:DAYLIGHT
END:VTIMEZONE
BEGIN:VEVENT
UID:79b67a5b055e0e1010bafe1dc3757ede
CATEGORIES:Bevers
CREATED:20210818T022212
SUMMARY:Sinterklaas
LOCATION:Sportwegel 7, 9840 De Pinte
DESCRIPTION;ENCODING=QUOTED-PRINTABLE:<p><span style="font-family: 'comic sans ms', sans-serif;">Dag Lieve bevert
 jes,</span></p><p><span style="font-family: 'comic sans ms', sans-serif;">I
 k ben het, Sinterklaas. Ik heb eigenlijk niet zo goednieuws. Door corona we
 rden er al heel veel mensen ziek. Ik heb daarom vandaag met de grote bazen 
 van ons landje samengezeten en we hebben beslist dat we niet meer binnen mo
 gen spelen tijdens de scouts. Omdat het buiten wat koud is, moeten we morge
 n wat anders aanpakken. Zo lang buiten in de kou zitten kan ik niet, omdat 
 ik al zo oud ben. We gaan daarom mijn bezoek een beetje inkorten. Ik kom ju
 llie nog steeds bezoeken en de Pieten komen ook mee!&nbsp; Hopelijk komen j
 ullie nog langs voor een kortbezoek.</span></p><p><span style="font-family:
  'comic sans ms', sans-serif;">Vele groetjes van de Sint , Pieten en Slecht
 weervandaag.</span></p><p>Dag lieve bevertjes, dag beverouders,</p><p>We he
 bben niet zo goed nieuws. Door de nieuwe maatregelenmoeten we het bezoek va
 n Sinterklaas even anders aanpakken. We gaan de&nbsp;vergadering inkorten, 
 zodat het wel nog steeds kan doorgaan. Dit speciaal voor het bezoek van de 
 Sint en Pieten.</p><p>Uitzonderlijk worden de&nbsp;bevers verwacht van 14u3
 0 tot 16u.De welpen worden verwacht van 16u tot 17u30. Voor zowel het afzet
 ten als het ophalen van je kind spreken we af&nbsp;aan het scoutslokaal.</p
 ><p>Deze verkorte vergadering gaat&nbsp;buiten&nbsp;door. Zorg dus zeker da
 t je bever/welp&nbsp;heel warm aangekleed&nbsp;is en een jas heeft die&nbsp
 ;tegen de regen kan. Daarnaast is het verplicht om een&nbsp;mondmasker&nbsp
 ;mee te brengen. Vergeten ook niet om&nbsp;1 euro&nbsp;mee te brengen zoals
  eerder gevraagd.</p><p>Let op, als er iemand uit hetzelfde huishouden in q
 uarantaine zit, hou je kind dan alstublieft thuis. We proberen het sinterkl
 aasgebeuren te laten doorgaan, speciaal voor hen. We willen echtvoorkomen d
 at we hiermee nog meer zieken veroorzaken.</p><p>Hopelijk kunnen we de Sint
  en Pieten op deze manier op een aangename manier ontvangen!</p><p>Tot snel
 ,</p><p>Met vriendelijke groeten,</p><p>de bever- en welpenleiding</p>
CONTACT:Takleider Bubbels / Pica (Dit e-mailadres wordt beveiligd tegen spambots. JavaScript dient ingeschakeld te zijn om het te bekijken.
				document.getElementById('cloakbc281d5040ddb2c95c25a88fd2b4f21f').innerHTML = '';
				var prefix = '&#109;a' + 'i&#108;' + '&#116;o';
				var path = 'hr' + 'ef' + '=';
				var addybc281d5040ddb2c95c25a88fd2b4f21f = 'b&#101;v&#101;rs' + '&#64;';
				addybc281d5040ddb2c95c25a88fd2b4f21f = addybc281d5040ddb2c95c25a88fd2b4f21f + 'd&#101;h&#97;v&#105;k' + '&#46;' + 'b&#101;';
				var addy_textbc281d5040ddb2c95c25a88fd2b4f21f = 'b&#101;v&#101;rs' + '&#64;' + 'd&#101;h&#97;v&#105;k' + '&#46;' + 'b&#101;';document.getElementById('cloakbc281d5040ddb2c95c25a88fd2b4f21f').innerHTML += ''+addy_textbc281d5040ddb2c95c25a88fd2b4f21f+'';
		)
X-EXTRAINFO:Meebrengen: 1 euro en eventueel tekeningen voor de sint
DTSTAMP:20260421T202810Z
DTSTART;TZID=Europe/Brussels:20211204T143000
DTEND;TZID=Europe/Brussels:20211204T173000
SEQUENCE:0
TRANSP:OPAQUE
END:VEVENT
END:VCALENDAR