BEGIN:VCALENDAR
VERSION:2.0
PRODID:-//jEvents 2.0 for Joomla//EN
CALSCALE:GREGORIAN
METHOD:PUBLISH
BEGIN:VTIMEZONE
TZID:Europe/Brussels
BEGIN:STANDARD
DTSTART:20201111T000000
RDATE:20210328T030000
TZOFFSETFROM:+0200
TZOFFSETTO:+0100
TZNAME:Europe/Brussels CET
END:STANDARD
BEGIN:STANDARD
DTSTART:20211031T020000
RDATE:20220327T030000
TZOFFSETFROM:+0200
TZOFFSETTO:+0100
TZNAME:Europe/Brussels CET
END:STANDARD
BEGIN:STANDARD
DTSTART:20221030T020000
RDATE:20230326T030000
TZOFFSETFROM:+0200
TZOFFSETTO:+0100
TZNAME:Europe/Brussels CET
END:STANDARD
BEGIN:STANDARD
DTSTART:20231029T020000
RDATE:20240331T030000
TZOFFSETFROM:+0200
TZOFFSETTO:+0100
TZNAME:Europe/Brussels CET
END:STANDARD
BEGIN:STANDARD
DTSTART:20241027T020000
RDATE:20250330T030000
TZOFFSETFROM:+0200
TZOFFSETTO:+0100
TZNAME:Europe/Brussels CET
END:STANDARD
BEGIN:STANDARD
DTSTART:20251026T020000
RDATE:20260329T030000
TZOFFSETFROM:+0200
TZOFFSETTO:+0100
TZNAME:Europe/Brussels CET
END:STANDARD
BEGIN:STANDARD
DTSTART:20261025T020000
RDATE:20270328T030000
TZOFFSETFROM:+0200
TZOFFSETTO:+0100
TZNAME:Europe/Brussels CET
END:STANDARD
BEGIN:STANDARD
DTSTART:20271031T020000
RDATE:20280326T030000
TZOFFSETFROM:+0200
TZOFFSETTO:+0100
TZNAME:Europe/Brussels CET
END:STANDARD
BEGIN:STANDARD
DTSTART:20281029T020000
RDATE:20290325T030000
TZOFFSETFROM:+0200
TZOFFSETTO:+0100
TZNAME:Europe/Brussels CET
END:STANDARD
BEGIN:STANDARD
DTSTART:20291028T020000
RDATE:20300331T030000
TZOFFSETFROM:+0200
TZOFFSETTO:+0100
TZNAME:Europe/Brussels CET
END:STANDARD
BEGIN:STANDARD
DTSTART:20301027T020000
RDATE:20310330T030000
TZOFFSETFROM:+0200
TZOFFSETTO:+0100
TZNAME:Europe/Brussels CET
END:STANDARD
BEGIN:DAYLIGHT
DTSTART:20210328T030000
RDATE:20211031T020000
TZOFFSETFROM:+0100
TZOFFSETTO:+0200
TZNAME:Europe/Brussels CEST
END:DAYLIGHT
BEGIN:DAYLIGHT
DTSTART:20220327T030000
RDATE:20221030T020000
TZOFFSETFROM:+0100
TZOFFSETTO:+0200
TZNAME:Europe/Brussels CEST
END:DAYLIGHT
BEGIN:DAYLIGHT
DTSTART:20230326T030000
RDATE:20231029T020000
TZOFFSETFROM:+0100
TZOFFSETTO:+0200
TZNAME:Europe/Brussels CEST
END:DAYLIGHT
BEGIN:DAYLIGHT
DTSTART:20240331T030000
RDATE:20241027T020000
TZOFFSETFROM:+0100
TZOFFSETTO:+0200
TZNAME:Europe/Brussels CEST
END:DAYLIGHT
BEGIN:DAYLIGHT
DTSTART:20250330T030000
RDATE:20251026T020000
TZOFFSETFROM:+0100
TZOFFSETTO:+0200
TZNAME:Europe/Brussels CEST
END:DAYLIGHT
BEGIN:DAYLIGHT
DTSTART:20260329T030000
RDATE:20261025T020000
TZOFFSETFROM:+0100
TZOFFSETTO:+0200
TZNAME:Europe/Brussels CEST
END:DAYLIGHT
BEGIN:DAYLIGHT
DTSTART:20270328T030000
RDATE:20271031T020000
TZOFFSETFROM:+0100
TZOFFSETTO:+0200
TZNAME:Europe/Brussels CEST
END:DAYLIGHT
BEGIN:DAYLIGHT
DTSTART:20280326T030000
RDATE:20281029T020000
TZOFFSETFROM:+0100
TZOFFSETTO:+0200
TZNAME:Europe/Brussels CEST
END:DAYLIGHT
BEGIN:DAYLIGHT
DTSTART:20290325T030000
RDATE:20291028T020000
TZOFFSETFROM:+0100
TZOFFSETTO:+0200
TZNAME:Europe/Brussels CEST
END:DAYLIGHT
BEGIN:DAYLIGHT
DTSTART:20300331T030000
RDATE:20301027T020000
TZOFFSETFROM:+0100
TZOFFSETTO:+0200
TZNAME:Europe/Brussels CEST
END:DAYLIGHT
END:VTIMEZONE
BEGIN:VEVENT
UID:befbfba2c2b1841c89865f7836805516
CATEGORIES:Bevers
CREATED:20210818T021327
SUMMARY:Weekend
LOCATION:to be announced
DESCRIPTION;ENCODING=QUOTED-PRINTABLE:\n\nDag liefste bevertjes, dag ouders,\n \n \n Het is bijna zo ver! We gaan
  bijna voor het eerst op weekend. Ik hoop dat jullie er klaar voor zijn, wa
 nt de leiding heeft er ongelofelijk veel zin in! In de inschrijvingsmail is
  een klein foutje geslopen... de uiterste inschrijvingsdatum is 8 november.
 \n \n Nog even wat praktische informatie. Op vrijdag 12 november vertrekken
  we op weekend naar Tiegem. We keren terug op zondag 14 november. We verbli
 jven in Berkenhof te Tiegem (Westdorp 46, 8573 Anzegem). Om op onze kamploc
 atie te geraken, gaan we carpoolen. Hiervoor zijn we op zoek naar verschill
 ende ouders die hun kinderen/andere kinderen willen brengen of halen. Indie
 n je kan rijden, gelieve te laten weten wanneer, wie je zeker wil meenemen 
 en hoeveel plaatsen er over zouden zijn. Zo kan de leiding de puzzel maken 
 en zorgen dat iedereen mee kan.&nbsp;\n \n Voor het vertrek spreken we vrij
 dag 12 november af aan het scoutslokaal om 17u30. Zorg dat de bevers allema
 al hun perfect uniform aanhebben. Van hier vertrekken we dan samen richting
  Tiegem. Zondag 14 november worden de chauffeurs dan verwacht om 14u30 aan 
 het lokaal in Tiegem. We rijden dan allemaal naar het scoutslokaal, waar we
  het kamp samen afsluiten. Schatting rond 15u15 aan het scoutslokaal.\n\n\n
 Het thema van ons weekend is "oma en opa", dus zou het leuk zijn als alle b
 evers verkleedkledij meehebben voor ons themaspel tijdens het weekend.\n\n\
 nWat zeker niet vergeten:\n\n\n- Medische fiche\n\n\n- Medicatie en/of luie
 rs\n\n\n- Themakledij (oma en opa)\n\n\n- Slaapzak, hoeslaken + kussensloop
 \n\n\n- Een pasfoto of kleine foto van jullie bever (voor ons techniekenspe
 l)\n\n\n- Toiletzak\n\n\n- Speelkledij\n\n\nIndien uw bever een allergie en
 /of intolerantie heeft, gelieve dit te melden via e-mail voor 8 november. Z
 o kunnen we hier rekening meekunnen houden tijdens de inkopen.&nbsp;\n\n\nT
 ijdens het weekend is de leiding steeds bereikbaar op het nummer 0492 92 62
  17 (Bubbels). \n\n\nHet belooft een zalig weekend te worden!\n\n\nWij zijn
  er alvast klaar voor!\n\n\nMet vriendelijke scoutsgroeten,\n\n\nDe beverle
 iding\n
CONTACT:Takleider Bubbels / Pica (Dit e-mailadres wordt beveiligd tegen spambots. JavaScript dient ingeschakeld te zijn om het te bekijken.
				document.getElementById('cloak35c22f3c4e837d29b57ebea04d808efb').innerHTML = '';
				var prefix = '&#109;a' + 'i&#108;' + '&#116;o';
				var path = 'hr' + 'ef' + '=';
				var addy35c22f3c4e837d29b57ebea04d808efb = 'b&#101;v&#101;rs' + '&#64;';
				addy35c22f3c4e837d29b57ebea04d808efb = addy35c22f3c4e837d29b57ebea04d808efb + 'd&#101;h&#97;v&#105;k' + '&#46;' + 'b&#101;';
				var addy_text35c22f3c4e837d29b57ebea04d808efb = 'b&#101;v&#101;rs' + '&#64;' + 'd&#101;h&#97;v&#105;k' + '&#46;' + 'b&#101;';document.getElementById('cloak35c22f3c4e837d29b57ebea04d808efb').innerHTML += ''+addy_text35c22f3c4e837d29b57ebea04d808efb+'';
		)
DTSTAMP:20260421T214006Z
DTSTART;TZID=Europe/Brussels;VALUE=DATE:20211112
DTEND;TZID=Europe/Brussels;VALUE=DATE:20211115
SEQUENCE:0
TRANSP:OPAQUE
END:VEVENT
END:VCALENDAR