BEGIN:VCALENDAR
VERSION:2.0
PRODID:-//jEvents 2.0 for Joomla//EN
CALSCALE:GREGORIAN
METHOD:PUBLISH
BEGIN:VTIMEZONE
TZID:Europe/Brussels
BEGIN:STANDARD
DTSTART:20161030T020000
RDATE:20170326T030000
TZOFFSETFROM:+0200
TZOFFSETTO:+0100
TZNAME:Europe/Brussels CET
END:STANDARD
BEGIN:STANDARD
DTSTART:20171029T020000
RDATE:20180325T030000
TZOFFSETFROM:+0200
TZOFFSETTO:+0100
TZNAME:Europe/Brussels CET
END:STANDARD
BEGIN:STANDARD
DTSTART:20181028T020000
RDATE:20190331T030000
TZOFFSETFROM:+0200
TZOFFSETTO:+0100
TZNAME:Europe/Brussels CET
END:STANDARD
BEGIN:STANDARD
DTSTART:20191027T020000
RDATE:20200329T030000
TZOFFSETFROM:+0200
TZOFFSETTO:+0100
TZNAME:Europe/Brussels CET
END:STANDARD
BEGIN:STANDARD
DTSTART:20201025T020000
RDATE:20210328T030000
TZOFFSETFROM:+0200
TZOFFSETTO:+0100
TZNAME:Europe/Brussels CET
END:STANDARD
BEGIN:STANDARD
DTSTART:20211031T020000
RDATE:20220327T030000
TZOFFSETFROM:+0200
TZOFFSETTO:+0100
TZNAME:Europe/Brussels CET
END:STANDARD
BEGIN:STANDARD
DTSTART:20221030T020000
RDATE:20230326T030000
TZOFFSETFROM:+0200
TZOFFSETTO:+0100
TZNAME:Europe/Brussels CET
END:STANDARD
BEGIN:STANDARD
DTSTART:20231029T020000
RDATE:20240331T030000
TZOFFSETFROM:+0200
TZOFFSETTO:+0100
TZNAME:Europe/Brussels CET
END:STANDARD
BEGIN:STANDARD
DTSTART:20241027T020000
RDATE:20250330T030000
TZOFFSETFROM:+0200
TZOFFSETTO:+0100
TZNAME:Europe/Brussels CET
END:STANDARD
BEGIN:STANDARD
DTSTART:20251026T020000
RDATE:20260329T030000
TZOFFSETFROM:+0200
TZOFFSETTO:+0100
TZNAME:Europe/Brussels CET
END:STANDARD
BEGIN:STANDARD
DTSTART:20261025T020000
RDATE:20270328T030000
TZOFFSETFROM:+0200
TZOFFSETTO:+0100
TZNAME:Europe/Brussels CET
END:STANDARD
BEGIN:STANDARD
DTSTART:20271031T020000
RDATE:20280326T030000
TZOFFSETFROM:+0200
TZOFFSETTO:+0100
TZNAME:Europe/Brussels CET
END:STANDARD
BEGIN:STANDARD
DTSTART:20281029T020000
RDATE:20290325T030000
TZOFFSETFROM:+0200
TZOFFSETTO:+0100
TZNAME:Europe/Brussels CET
END:STANDARD
BEGIN:STANDARD
DTSTART:20291028T020000
RDATE:20300331T030000
TZOFFSETFROM:+0200
TZOFFSETTO:+0100
TZNAME:Europe/Brussels CET
END:STANDARD
BEGIN:STANDARD
DTSTART:20301027T020000
RDATE:20310330T030000
TZOFFSETFROM:+0200
TZOFFSETTO:+0100
TZNAME:Europe/Brussels CET
END:STANDARD
BEGIN:DAYLIGHT
DTSTART:20160623T143000
RDATE:20161030T020000
TZOFFSETFROM:+0100
TZOFFSETTO:+0200
TZNAME:Europe/Brussels CEST
END:DAYLIGHT
BEGIN:DAYLIGHT
DTSTART:20170326T030000
RDATE:20171029T020000
TZOFFSETFROM:+0100
TZOFFSETTO:+0200
TZNAME:Europe/Brussels CEST
END:DAYLIGHT
BEGIN:DAYLIGHT
DTSTART:20180325T030000
RDATE:20181028T020000
TZOFFSETFROM:+0100
TZOFFSETTO:+0200
TZNAME:Europe/Brussels CEST
END:DAYLIGHT
BEGIN:DAYLIGHT
DTSTART:20190331T030000
RDATE:20191027T020000
TZOFFSETFROM:+0100
TZOFFSETTO:+0200
TZNAME:Europe/Brussels CEST
END:DAYLIGHT
BEGIN:DAYLIGHT
DTSTART:20200329T030000
RDATE:20201025T020000
TZOFFSETFROM:+0100
TZOFFSETTO:+0200
TZNAME:Europe/Brussels CEST
END:DAYLIGHT
BEGIN:DAYLIGHT
DTSTART:20210328T030000
RDATE:20211031T020000
TZOFFSETFROM:+0100
TZOFFSETTO:+0200
TZNAME:Europe/Brussels CEST
END:DAYLIGHT
BEGIN:DAYLIGHT
DTSTART:20220327T030000
RDATE:20221030T020000
TZOFFSETFROM:+0100
TZOFFSETTO:+0200
TZNAME:Europe/Brussels CEST
END:DAYLIGHT
BEGIN:DAYLIGHT
DTSTART:20230326T030000
RDATE:20231029T020000
TZOFFSETFROM:+0100
TZOFFSETTO:+0200
TZNAME:Europe/Brussels CEST
END:DAYLIGHT
BEGIN:DAYLIGHT
DTSTART:20240331T030000
RDATE:20241027T020000
TZOFFSETFROM:+0100
TZOFFSETTO:+0200
TZNAME:Europe/Brussels CEST
END:DAYLIGHT
BEGIN:DAYLIGHT
DTSTART:20250330T030000
RDATE:20251026T020000
TZOFFSETFROM:+0100
TZOFFSETTO:+0200
TZNAME:Europe/Brussels CEST
END:DAYLIGHT
BEGIN:DAYLIGHT
DTSTART:20260329T030000
RDATE:20261025T020000
TZOFFSETFROM:+0100
TZOFFSETTO:+0200
TZNAME:Europe/Brussels CEST
END:DAYLIGHT
BEGIN:DAYLIGHT
DTSTART:20270328T030000
RDATE:20271031T020000
TZOFFSETFROM:+0100
TZOFFSETTO:+0200
TZNAME:Europe/Brussels CEST
END:DAYLIGHT
BEGIN:DAYLIGHT
DTSTART:20280326T030000
RDATE:20281029T020000
TZOFFSETFROM:+0100
TZOFFSETTO:+0200
TZNAME:Europe/Brussels CEST
END:DAYLIGHT
BEGIN:DAYLIGHT
DTSTART:20290325T030000
RDATE:20291028T020000
TZOFFSETFROM:+0100
TZOFFSETTO:+0200
TZNAME:Europe/Brussels CEST
END:DAYLIGHT
BEGIN:DAYLIGHT
DTSTART:20300331T030000
RDATE:20301027T020000
TZOFFSETFROM:+0100
TZOFFSETTO:+0200
TZNAME:Europe/Brussels CEST
END:DAYLIGHT
END:VTIMEZONE
BEGIN:VEVENT
UID:9933511ad8d93bd1dd7e460a6fecca22
CATEGORIES:Bevers
CREATED:20170410T224857
SUMMARY:Final countdown
LOCATION:Lokaal
DESCRIPTION;ENCODING=QUOTED-PRINTABLE:<p><span style="color: #666666; font-family: 'Helvetica Neue', Helvetica, A
 rial, sans-serif; font-size: 14px; background-color: #ebebeb;">We vertrekke
 n samen</span><br style="box-sizing: border-box; color: #666666; font-famil
 y: 'Helvetica Neue', Helvetica, Arial, sans-serif; font-size: 14px; backgro
 und-color: #ebebeb;" /><span style="color: #666666; font-family: 'Helvetica
  Neue', Helvetica, Arial, sans-serif; font-size: 14px; background-color: #e
 bebeb;">Maar het is nog steeds een afscheid</span><br style="box-sizing: bo
 rder-box; color: #666666; font-family: 'Helvetica Neue', Helvetica, Arial, 
 sans-serif; font-size: 14px; background-color: #ebebeb;" /><span style="col
 or: #666666; font-family: 'Helvetica Neue', Helvetica, Arial, sans-serif; f
 ont-size: 14px; background-color: #ebebeb;">En misschien zullen we terugkom
 en</span><br style="box-sizing: border-box; color: #666666; font-family: 'H
 elvetica Neue', Helvetica, Arial, sans-serif; font-size: 14px; background-c
 olor: #ebebeb;" /><span style="color: #666666; font-family: 'Helvetica Neue
 ', Helvetica, Arial, sans-serif; font-size: 14px; background-color: #ebebeb
 ;">naar de aarde, wie zal het zeggen</span><br style="box-sizing: border-bo
 x; color: #666666; font-family: 'Helvetica Neue', Helvetica, Arial, sans-se
 rif; font-size: 14px; background-color: #ebebeb;" /><span style="color: #66
 6666; font-family: 'Helvetica Neue', Helvetica, Arial, sans-serif; font-siz
 e: 14px; background-color: #ebebeb;">Ik denk dat er niemand schuldig is</sp
 an><br style="box-sizing: border-box; color: #666666; font-family: 'Helveti
 ca Neue', Helvetica, Arial, sans-serif; font-size: 14px; background-color: 
 #ebebeb;" /><span style="color: #666666; font-family: 'Helvetica Neue', Hel
 vetica, Arial, sans-serif; font-size: 14px; background-color: #ebebeb;">We 
 verlaten de grond (verlaten de grond)</span><br style="box-sizing: border-b
 ox; color: #666666; font-family: 'Helvetica Neue', Helvetica, Arial, sans-s
 erif; font-size: 14px; background-color: #ebebeb;" /><span style="color: #6
 66666; font-family: 'Helvetica Neue', Helvetica, Arial, sans-serif; font-si
 ze: 14px; background-color: #ebebeb;">Zullen de dingen nog ooit hetzelfde z
 ijn</span><br style="box-sizing: border-box; color: #666666; font-family: '
 Helvetica Neue', Helvetica, Arial, sans-serif; font-size: 14px; background-
 color: #ebebeb;" /><span style="color: #666666; font-family: 'Helvetica Neu
 e', Helvetica, Arial, sans-serif; font-size: 14px; background-color: #ebebe
 b;">Het is de laatste aftelling</span><br style="box-sizing: border-box; co
 lor: #666666; font-family: 'Helvetica Neue', Helvetica, Arial, sans-serif; 
 font-size: 14px; background-color: #ebebeb;" /><span style="color: #666666;
  font-family: 'Helvetica Neue', Helvetica, Arial, sans-serif; font-size: 14
 px; background-color: #ebebeb;">De laatste aftelling</span><br style="box-s
 izing: border-box; color: #666666; font-family: 'Helvetica Neue', Helvetica
 , Arial, sans-serif; font-size: 14px; background-color: #ebebeb;" /><span s
 tyle="color: #666666; font-family: 'Helvetica Neue', Helvetica, Arial, sans
 -serif; font-size: 14px; background-color: #ebebeb;">Ooh oh</span><br style
 ="box-sizing: border-box; color: #666666; font-family: 'Helvetica Neue', He
 lvetica, Arial, sans-serif; font-size: 14px; background-color: #ebebeb;" />
 <br style="box-sizing: border-box; color: #666666; font-family: 'Helvetica 
 Neue', Helvetica, Arial, sans-serif; font-size: 14px; background-color: #eb
 ebeb;" /><span style="color: #666666; font-family: 'Helvetica Neue', Helvet
 ica, Arial, sans-serif; font-size: 14px; background-color: #ebebeb;">We gaa
 n richting Venus (Venus)</span><br style="box-sizing: border-box; color: #6
 66666; font-family: 'Helvetica Neue', Helvetica, Arial, sans-serif; font-si
 ze: 14px; background-color: #ebebeb;" /><span style="color: #666666; font-f
 amily: 'Helvetica Neue', Helvetica, Arial, sans-serif; font-size: 14px; bac
 kground-color: #ebebeb;">En we staan nog steeds rechtop</span><br style="bo
 x-sizing: border-box; color: #666666; font-family: 'Helvetica Neue', Helvet
 ica, Arial, sans-serif; font-size: 14px; background-color: #ebebeb;" /><spa
 n style="color: #666666; font-family: 'Helvetica Neue', Helvetica, Arial, s
 ans-serif; font-size: 14px; background-color: #ebebeb;">Omdat ze ons missch
 ien wel gezien hebben</span><br style="box-sizing: border-box; color: #6666
 66; font-family: 'Helvetica Neue', Helvetica, Arial, sans-serif; font-size:
  14px; background-color: #ebebeb;" /><span style="color: #666666; font-fami
 ly: 'Helvetica Neue', Helvetica, Arial, sans-serif; font-size: 14px; backgr
 ound-color: #ebebeb;">En ons allemaal verwelkomen (yeah)</span><br style="b
 ox-sizing: border-box; color: #666666; font-family: 'Helvetica Neue', Helve
 tica, Arial, sans-serif; font-size: 14px; background-color: #ebebeb;" /><sp
 an style="color: #666666; font-family: 'Helvetica Neue', Helvetica, Arial, 
 sans-serif; font-size: 14px; background-color: #ebebeb;">Nog zo veel lichtj
 aren te gaan</span><br style="box-sizing: border-box; color: #666666; font-
 family: 'Helvetica Neue', Helvetica, Arial, sans-serif; font-size: 14px; ba
 ckground-color: #ebebeb;" /><span style="color: #666666; font-family: 'Helv
 etica Neue', Helvetica, Arial, sans-serif; font-size: 14px; background-colo
 r: #ebebeb;">En dingen die gevonden moeten worden (gevonden moeten worden)<
 /span><br style="box-sizing: border-box; color: #666666; font-family: 'Helv
 etica Neue', Helvetica, Arial, sans-serif; font-size: 14px; background-colo
 r: #ebebeb;" /><span style="color: #666666; font-family: 'Helvetica Neue', 
 Helvetica, Arial, sans-serif; font-size: 14px; background-color: #ebebeb;">
 Ik weet zeker dat we haar allemaal zullen missen</span><br style="box-sizin
 g: border-box; color: #666666; font-family: 'Helvetica Neue', Helvetica, Ar
 ial, sans-serif; font-size: 14px; background-color: #ebebeb;" /><span style
 ="color: #666666; font-family: 'Helvetica Neue', Helvetica, Arial, sans-ser
 if; font-size: 14px; background-color: #ebebeb;">Het is de laatste aftellin
 g</span><br style="box-sizing: border-box; color: #666666; font-family: 'He
 lvetica Neue', Helvetica, Arial, sans-serif; font-size: 14px; background-co
 lor: #ebebeb;" /><span style="color: #666666; font-family: 'Helvetica Neue'
 , Helvetica, Arial, sans-serif; font-size: 14px; background-color: #ebebeb;
 ">De laatste aftelling</span><br style="box-sizing: border-box; color: #666
 666; font-family: 'Helvetica Neue', Helvetica, Arial, sans-serif; font-size
 : 14px; background-color: #ebebeb;" /><span style="color: #666666; font-fam
 ily: 'Helvetica Neue', Helvetica, Arial, sans-serif; font-size: 14px; backg
 round-color: #ebebeb;">De laatste aftelling (de laatste aftelling)</span><b
 r style="box-sizing: border-box; color: #666666; font-family: 'Helvetica Ne
 ue', Helvetica, Arial, sans-serif; font-size: 14px; background-color: #ebeb
 eb;" /><span style="color: #666666; font-family: 'Helvetica Neue', Helvetic
 a, Arial, sans-serif; font-size: 14px; background-color: #ebebeb;">Ooh ooh 
 ooh</span><br style="box-sizing: border-box; color: #666666; font-family: '
 Helvetica Neue', Helvetica, Arial, sans-serif; font-size: 14px; background-
 color: #ebebeb;" /><br style="box-sizing: border-box; color: #666666; font-
 family: 'Helvetica Neue', Helvetica, Arial, sans-serif; font-size: 14px; ba
 ckground-color: #ebebeb;" /><span style="color: #666666; font-family: 'Helv
 etica Neue', Helvetica, Arial, sans-serif; font-size: 14px; background-colo
 r: #ebebeb;">De laatste aftelling</span><br style="box-sizing: border-box; 
 color: #666666; font-family: 'Helvetica Neue', Helvetica, Arial, sans-serif
 ; font-size: 14px; background-color: #ebebeb;" /><span style="color: #66666
 6; font-family: 'Helvetica Neue', Helvetica, Arial, sans-serif; font-size: 
 14px; background-color: #ebebeb;">Ooh oh</span><br style="box-sizing: borde
 r-box; color: #666666; font-family: 'Helvetica Neue', Helvetica, Arial, san
 s-serif; font-size: 14px; background-color: #ebebeb;" /><span style="color:
  #666666; font-family: 'Helvetica Neue', Helvetica, Arial, sans-serif; font
 -size: 14px; background-color: #ebebeb;">Het is de laatste aftelling</span>
 <br style="box-sizing: border-box; color: #666666; font-family: 'Helvetica 
 Neue', Helvetica, Arial, sans-serif; font-size: 14px; background-color: #eb
 ebeb;" /><span style="color: #666666; font-family: 'Helvetica Neue', Helvet
 ica, Arial, sans-serif; font-size: 14px; background-color: #ebebeb;">De laa
 tste aftelling</span><br style="box-sizing: border-box; color: #666666; fon
 t-family: 'Helvetica Neue', Helvetica, Arial, sans-serif; font-size: 14px; 
 background-color: #ebebeb;" /><span style="color: #666666; font-family: 'He
 lvetica Neue', Helvetica, Arial, sans-serif; font-size: 14px; background-co
 lor: #ebebeb;">De laatste aftelling (de laatste aftelling</span><br style="
 box-sizing: border-box; color: #666666; font-family: 'Helvetica Neue', Helv
 etica, Arial, sans-serif; font-size: 14px; background-color: #ebebeb;" /><s
 pan style="color: #666666; font-family: 'Helvetica Neue', Helvetica, Arial,
  sans-serif; font-size: 14px; background-color: #ebebeb;">Ooh</span><br sty
 le="box-sizing: border-box; color: #666666; font-family: 'Helvetica Neue', 
 Helvetica, Arial, sans-serif; font-size: 14px; background-color: #ebebeb;" 
 /><span style="color: #666666; font-family: 'Helvetica Neue', Helvetica, Ar
 ial, sans-serif; font-size: 14px; background-color: #ebebeb;">Het is de laa
 tste aftelling</span><br style="box-sizing: border-box; color: #666666; fon
 t-family: 'Helvetica Neue', Helvetica, Arial, sans-serif; font-size: 14px; 
 background-color: #ebebeb;" /><span style="color: #666666; font-family: 'He
 lvetica Neue', Helvetica, Arial, sans-serif; font-size: 14px; background-co
 lor: #ebebeb;">We vertrekken samen</span><br style="box-sizing: border-box;
  color: #666666; font-family: 'Helvetica Neue', Helvetica, Arial, sans-seri
 f; font-size: 14px; background-color: #ebebeb;" /><span style="color: #6666
 66; font-family: 'Helvetica Neue', Helvetica, Arial, sans-serif; font-size:
  14px; background-color: #ebebeb;">De laatste aftelling</span></p><p><a hre
 f="https://www.youtube.com/watch?v=9jK-NcRmVcw">https://www.youtube.com/wat
 ch?v=9jK-NcRmVcw</a></p><p> </p>
CONTACT:Katjo
X-EXTRAINFO:meebrengen: bonnetje/50cent
DTSTAMP:20260423T114134Z
DTSTART;TZID=Europe/Brussels:20170624T143000
DTEND;TZID=Europe/Brussels:20170624T173000
SEQUENCE:0
TRANSP:OPAQUE
END:VEVENT
END:VCALENDAR