BEGIN:VCALENDAR
VERSION:2.0
PRODID:-//jEvents 2.0 for Joomla//EN
CALSCALE:GREGORIAN
METHOD:PUBLISH
BEGIN:VTIMEZONE
TZID:Europe/Brussels
BEGIN:STANDARD
DTSTART:20161030T020000
RDATE:20170326T030000
TZOFFSETFROM:+0200
TZOFFSETTO:+0100
TZNAME:Europe/Brussels CET
END:STANDARD
BEGIN:STANDARD
DTSTART:20171029T020000
RDATE:20180325T030000
TZOFFSETFROM:+0200
TZOFFSETTO:+0100
TZNAME:Europe/Brussels CET
END:STANDARD
BEGIN:STANDARD
DTSTART:20181028T020000
RDATE:20190331T030000
TZOFFSETFROM:+0200
TZOFFSETTO:+0100
TZNAME:Europe/Brussels CET
END:STANDARD
BEGIN:STANDARD
DTSTART:20191027T020000
RDATE:20200329T030000
TZOFFSETFROM:+0200
TZOFFSETTO:+0100
TZNAME:Europe/Brussels CET
END:STANDARD
BEGIN:STANDARD
DTSTART:20201025T020000
RDATE:20210328T030000
TZOFFSETFROM:+0200
TZOFFSETTO:+0100
TZNAME:Europe/Brussels CET
END:STANDARD
BEGIN:STANDARD
DTSTART:20211031T020000
RDATE:20220327T030000
TZOFFSETFROM:+0200
TZOFFSETTO:+0100
TZNAME:Europe/Brussels CET
END:STANDARD
BEGIN:STANDARD
DTSTART:20221030T020000
RDATE:20230326T030000
TZOFFSETFROM:+0200
TZOFFSETTO:+0100
TZNAME:Europe/Brussels CET
END:STANDARD
BEGIN:STANDARD
DTSTART:20231029T020000
RDATE:20240331T030000
TZOFFSETFROM:+0200
TZOFFSETTO:+0100
TZNAME:Europe/Brussels CET
END:STANDARD
BEGIN:STANDARD
DTSTART:20241027T020000
RDATE:20250330T030000
TZOFFSETFROM:+0200
TZOFFSETTO:+0100
TZNAME:Europe/Brussels CET
END:STANDARD
BEGIN:STANDARD
DTSTART:20251026T020000
RDATE:20260329T030000
TZOFFSETFROM:+0200
TZOFFSETTO:+0100
TZNAME:Europe/Brussels CET
END:STANDARD
BEGIN:STANDARD
DTSTART:20261025T020000
RDATE:20270328T030000
TZOFFSETFROM:+0200
TZOFFSETTO:+0100
TZNAME:Europe/Brussels CET
END:STANDARD
BEGIN:STANDARD
DTSTART:20271031T020000
RDATE:20280326T030000
TZOFFSETFROM:+0200
TZOFFSETTO:+0100
TZNAME:Europe/Brussels CET
END:STANDARD
BEGIN:STANDARD
DTSTART:20281029T020000
RDATE:20290325T030000
TZOFFSETFROM:+0200
TZOFFSETTO:+0100
TZNAME:Europe/Brussels CET
END:STANDARD
BEGIN:STANDARD
DTSTART:20291028T020000
RDATE:20300331T030000
TZOFFSETFROM:+0200
TZOFFSETTO:+0100
TZNAME:Europe/Brussels CET
END:STANDARD
BEGIN:STANDARD
DTSTART:20301027T020000
RDATE:20310330T030000
TZOFFSETFROM:+0200
TZOFFSETTO:+0100
TZNAME:Europe/Brussels CET
END:STANDARD
BEGIN:DAYLIGHT
DTSTART:20160708T100000
RDATE:20161030T020000
TZOFFSETFROM:+0100
TZOFFSETTO:+0200
TZNAME:Europe/Brussels CEST
END:DAYLIGHT
BEGIN:DAYLIGHT
DTSTART:20170326T030000
RDATE:20171029T020000
TZOFFSETFROM:+0100
TZOFFSETTO:+0200
TZNAME:Europe/Brussels CEST
END:DAYLIGHT
BEGIN:DAYLIGHT
DTSTART:20180325T030000
RDATE:20181028T020000
TZOFFSETFROM:+0100
TZOFFSETTO:+0200
TZNAME:Europe/Brussels CEST
END:DAYLIGHT
BEGIN:DAYLIGHT
DTSTART:20190331T030000
RDATE:20191027T020000
TZOFFSETFROM:+0100
TZOFFSETTO:+0200
TZNAME:Europe/Brussels CEST
END:DAYLIGHT
BEGIN:DAYLIGHT
DTSTART:20200329T030000
RDATE:20201025T020000
TZOFFSETFROM:+0100
TZOFFSETTO:+0200
TZNAME:Europe/Brussels CEST
END:DAYLIGHT
BEGIN:DAYLIGHT
DTSTART:20210328T030000
RDATE:20211031T020000
TZOFFSETFROM:+0100
TZOFFSETTO:+0200
TZNAME:Europe/Brussels CEST
END:DAYLIGHT
BEGIN:DAYLIGHT
DTSTART:20220327T030000
RDATE:20221030T020000
TZOFFSETFROM:+0100
TZOFFSETTO:+0200
TZNAME:Europe/Brussels CEST
END:DAYLIGHT
BEGIN:DAYLIGHT
DTSTART:20230326T030000
RDATE:20231029T020000
TZOFFSETFROM:+0100
TZOFFSETTO:+0200
TZNAME:Europe/Brussels CEST
END:DAYLIGHT
BEGIN:DAYLIGHT
DTSTART:20240331T030000
RDATE:20241027T020000
TZOFFSETFROM:+0100
TZOFFSETTO:+0200
TZNAME:Europe/Brussels CEST
END:DAYLIGHT
BEGIN:DAYLIGHT
DTSTART:20250330T030000
RDATE:20251026T020000
TZOFFSETFROM:+0100
TZOFFSETTO:+0200
TZNAME:Europe/Brussels CEST
END:DAYLIGHT
BEGIN:DAYLIGHT
DTSTART:20260329T030000
RDATE:20261025T020000
TZOFFSETFROM:+0100
TZOFFSETTO:+0200
TZNAME:Europe/Brussels CEST
END:DAYLIGHT
BEGIN:DAYLIGHT
DTSTART:20270328T030000
RDATE:20271031T020000
TZOFFSETFROM:+0100
TZOFFSETTO:+0200
TZNAME:Europe/Brussels CEST
END:DAYLIGHT
BEGIN:DAYLIGHT
DTSTART:20280326T030000
RDATE:20281029T020000
TZOFFSETFROM:+0100
TZOFFSETTO:+0200
TZNAME:Europe/Brussels CEST
END:DAYLIGHT
BEGIN:DAYLIGHT
DTSTART:20290325T030000
RDATE:20291028T020000
TZOFFSETFROM:+0100
TZOFFSETTO:+0200
TZNAME:Europe/Brussels CEST
END:DAYLIGHT
BEGIN:DAYLIGHT
DTSTART:20300331T030000
RDATE:20301027T020000
TZOFFSETFROM:+0100
TZOFFSETTO:+0200
TZNAME:Europe/Brussels CEST
END:DAYLIGHT
END:VTIMEZONE
BEGIN:VEVENT
UID:4f319b982e33cc102df8413e7459f8fa
CATEGORIES:Eenheid
CREATED:20170307T164644
SUMMARY:Bezoekdag
LOCATION:Rue du plan d'eau, 5580 Han-Sur-Lesse
DESCRIPTION;ENCODING=QUOTED-PRINTABLE:<p style="text-align: justify;">Zondag 9 juli zijn jullie allemaal welkom o
 p ons kampterrein van 10 tot 17 uur. Het middagmaal bestaat uit een heerlij
 k groenten en BBQ buffet. Hiervoor dienen jullie zich op voorhand in te sch
 rijven. Ook aan de vegetariërs wordt gedacht.<br /><br />De prijs is <stron
 g>&euro;15</strong> voor <strong>volwassenen</strong>, <strong>&euro;8</str
 ong> voor kinderen<strong> jonger dan 12 jaar</strong> en<strong> onder de 
 5 jaar</strong> eten ze <strong>gratis</strong>.  Voor de kinderen die mee 
 zijn op kamp zit de prijs al in het kampgeld verrekend. <br /><br /><strong
 >De inschrijvingsprocedure is veranderd, gelieve de instructies goed op te 
 volgen voor een vlot verloop en correcte inschrijving.</strong><br />1. Via
  <a href="http://dehavik.us12.list-manage.com/track/click?u=0d2dce1aefe3bb1
 cb4d027728&id=8481980568&e=32790b5dff" target="_blank" rel="noopener norefe
 rrer">deze link</a> kan je je inschrijven.<br />2. Gelieve het inschrijving
 sformulier correct in te vullen.<br />3. Na het correct invullen ontvang je
  een mail met de gegevens van je inschrijving. Is hier iets fout gelopen da
 n contacteer je best de eenheidsleiding.<br />4. Tot slot dien je zelf de t
 otale kostprijs te berekenen van je inschrijving en dit te storten op het r
 ekeningnummer: BE85 7370 1893 0706<strong> </strong>(Dit is een andere reke
 ning dan de kampgelden)<br />5. U bent pas correct ingeschreven als u het f
 ormulier heeft ingevuld en wij de betaling hebben ontvangen. Gelieve te bet
 alen vòòr 3 juli.<br /><br /><strong>Enkele tips & tricks</strong> voor een
  geslaagde bezoekdag:<br />- Neem zelf stoeltjes, tafeltje, parassol/partyt
 entje mee, ... De tenten van de kinderen kunnen niet als shelter worden geb
 ruikt. <br />- Zorg zelf voor borden en bestek, wij voorzien hier enkel in 
 voor de kinderen die op kamp zijn.<br />- Voorzie leuke snacks en lekkere e
 xtra's voor de kids.<br />- U kan uw waslading van na het kamp verkleinen d
 oor uw kind bij het vertrek kleren mee te geven voor de eerste week en deze
  dan op bezoekdag te wisselen met kledij voor de tweede week. (Er is dan oo
 k minder kans dat ze gerief kwijt geraken)<br />- Bescherm uwzelf en neem g
 enoeg zonnecrème mee!<br />- Rek het afscheid niet te lang. Het kan soms ha
 rd zijn, maar vanaf het moment dat de ouders weg zij, heeft de leiding weer
  activiteiten klaarliggen waardoor ze in de kinderen weer vollop in de kamp
 sfeer zitten.</p>
CONTACT:Stormvogel +32474/19.94.71
X-EXTRAINFO:http://www.dehavik.be/grootkamp/bezoekdag
DTSTAMP:20260423T102425Z
DTSTART;TZID=Europe/Brussels:20170709T100000
DTEND;TZID=Europe/Brussels:20170709T170000
SEQUENCE:0
TRANSP:OPAQUE
END:VEVENT
END:VCALENDAR